BEGIN:VCALENDAR
VERSION:2.0
PRODID:-//DJ Charlie - ECPv6.15.20//NONSGML v1.0//EN
CALSCALE:GREGORIAN
METHOD:PUBLISH
X-WR-CALNAME:DJ Charlie
X-ORIGINAL-URL:https://www.djcharlie.org
X-WR-CALDESC:Eventos para DJ Charlie
REFRESH-INTERVAL;VALUE=DURATION:PT1H
X-Robots-Tag:noindex
X-PUBLISHED-TTL:PT1H
BEGIN:VTIMEZONE
TZID:UTC
BEGIN:STANDARD
TZOFFSETFROM:+0000
TZOFFSETTO:+0000
TZNAME:UTC
DTSTART:20240101T000000
END:STANDARD
END:VTIMEZONE
BEGIN:VEVENT
DTSTART;VALUE=DATE:20250905
DTEND;VALUE=DATE:20250906
DTSTAMP:20260420T150801
CREATED:20250618T143300Z
LAST-MODIFIED:20250803T160509Z
UID:6010-1757030400-1757116799@www.djcharlie.org
SUMMARY:San Andrés de Comesaña (Vigo)
DESCRIPTION:
URL:https://www.djcharlie.org/event/san-andres-de-comesana-vigo/
END:VEVENT
BEGIN:VEVENT
DTSTART;VALUE=DATE:20250913
DTEND;VALUE=DATE:20250914
DTSTAMP:20260420T150801
CREATED:20250618T143323Z
LAST-MODIFIED:20250618T143323Z
UID:6012-1757721600-1757807999@www.djcharlie.org
SUMMARY:Gladiator race (Santiago de Compostela)
DESCRIPTION:
URL:https://www.djcharlie.org/event/gladiator-race-santiago-de-compostela/
END:VEVENT
BEGIN:VEVENT
DTSTART;VALUE=DATE:20250920
DTEND;VALUE=DATE:20250921
DTSTAMP:20260420T150801
CREATED:20250803T160607Z
LAST-MODIFIED:20250803T160607Z
UID:6056-1758326400-1758412799@www.djcharlie.org
SUMMARY:Ribeira - fiesta remember
DESCRIPTION:
URL:https://www.djcharlie.org/event/ribeira-fiesta-remember/
END:VEVENT
BEGIN:VEVENT
DTSTART;VALUE=DATE:20250927
DTEND;VALUE=DATE:20250928
DTSTAMP:20260420T150801
CREATED:20250221T163346Z
LAST-MODIFIED:20250221T163346Z
UID:5970-1758931200-1759017599@www.djcharlie.org
SUMMARY:RESERVADO
DESCRIPTION:
URL:https://www.djcharlie.org/event/reservado-74/
END:VEVENT
END:VCALENDAR