BEGIN:VCALENDAR
VERSION:2.0
PRODID:-//DJ Charlie - ECPv6.15.20//NONSGML v1.0//EN
CALSCALE:GREGORIAN
METHOD:PUBLISH
X-ORIGINAL-URL:https://www.djcharlie.org
X-WR-CALDESC:Eventos para DJ Charlie
REFRESH-INTERVAL;VALUE=DURATION:PT1H
X-Robots-Tag:noindex
X-PUBLISHED-TTL:PT1H
BEGIN:VTIMEZONE
TZID:UTC
BEGIN:STANDARD
TZOFFSETFROM:+0000
TZOFFSETTO:+0000
TZNAME:UTC
DTSTART:20240101T000000
END:STANDARD
END:VTIMEZONE
BEGIN:VEVENT
DTSTART;VALUE=DATE:20251018
DTEND;VALUE=DATE:20251019
DTSTAMP:20260421T012028
CREATED:20251014T152724Z
LAST-MODIFIED:20251014T152724Z
UID:6261-1760745600-1760831999@www.djcharlie.org
SUMMARY:Central (Tui\, Po) - Gabry D Birthday
DESCRIPTION:
URL:https://www.djcharlie.org/event/central-tui-po-gabry-d-birthday/
LOCATION:Central (Tui)\, Rúa das Monxas\, 4\, Tui\, Pontevedra\, 36700\, España
END:VEVENT
END:VCALENDAR