BEGIN:VCALENDAR
VERSION:2.0
PRODID:-//DJ Charlie - ECPv6.15.20//NONSGML v1.0//EN
CALSCALE:GREGORIAN
METHOD:PUBLISH
X-ORIGINAL-URL:https://www.djcharlie.org
X-WR-CALDESC:Eventos para DJ Charlie
REFRESH-INTERVAL;VALUE=DURATION:PT1H
X-Robots-Tag:noindex
X-PUBLISHED-TTL:PT1H
BEGIN:VTIMEZONE
TZID:UTC
BEGIN:STANDARD
TZOFFSETFROM:+0000
TZOFFSETTO:+0000
TZNAME:UTC
DTSTART:20240101T000000
END:STANDARD
END:VTIMEZONE
BEGIN:VEVENT
DTSTART;VALUE=DATE:20250830
DTEND;VALUE=DATE:20250831
DTSTAMP:20260420T151353
CREATED:20250221T163318Z
LAST-MODIFIED:20250716T160908Z
UID:5968-1756512000-1756598399@www.djcharlie.org
SUMMARY:Galicia fest. (Vigo\, Po)
DESCRIPTION:
URL:https://www.djcharlie.org/event/galicia-fest-vigo-djcharlie/
END:VEVENT
END:VCALENDAR