BEGIN:VCALENDAR
VERSION:2.0
PRODID:-//DJ Charlie - ECPv6.15.20//NONSGML v1.0//EN
CALSCALE:GREGORIAN
METHOD:PUBLISH
X-ORIGINAL-URL:https://www.djcharlie.org
X-WR-CALDESC:Eventos para DJ Charlie
REFRESH-INTERVAL;VALUE=DURATION:PT1H
X-Robots-Tag:noindex
X-PUBLISHED-TTL:PT1H
BEGIN:VTIMEZONE
TZID:UTC
BEGIN:STANDARD
TZOFFSETFROM:+0000
TZOFFSETTO:+0000
TZNAME:UTC
DTSTART:20240101T000000
END:STANDARD
END:VTIMEZONE
BEGIN:VEVENT
DTSTART;VALUE=DATE:20250829
DTEND;VALUE=DATE:20250830
DTSTAMP:20260420T151313
CREATED:20250803T160323Z
LAST-MODIFIED:20250803T160323Z
UID:6054-1756425600-1756511999@www.djcharlie.org
SUMMARY:RESERVADO
DESCRIPTION:
URL:https://www.djcharlie.org/event/reservado-76/
END:VEVENT
END:VCALENDAR