BEGIN:VCALENDAR
VERSION:2.0
PRODID:-//DJ Charlie - ECPv6.15.20//NONSGML v1.0//EN
CALSCALE:GREGORIAN
METHOD:PUBLISH
X-ORIGINAL-URL:https://www.djcharlie.org
X-WR-CALDESC:Eventos para DJ Charlie
REFRESH-INTERVAL;VALUE=DURATION:PT1H
X-Robots-Tag:noindex
X-PUBLISHED-TTL:PT1H
BEGIN:VTIMEZONE
TZID:UTC
BEGIN:STANDARD
TZOFFSETFROM:+0000
TZOFFSETTO:+0000
TZNAME:UTC
DTSTART:20240101T000000
END:STANDARD
END:VTIMEZONE
BEGIN:VEVENT
DTSTART;VALUE=DATE:20250823
DTEND;VALUE=DATE:20250824
DTSTAMP:20260420T151418
CREATED:20250716T160803Z
LAST-MODIFIED:20250716T160803Z
UID:6041-1755907200-1755993599@www.djcharlie.org
SUMMARY:Tomiño\, fiesta 80s (1am)
DESCRIPTION:
URL:https://www.djcharlie.org/event/tomino-fiesta-80s-1am/
END:VEVENT
BEGIN:VEVENT
DTSTART;VALUE=DATE:20250823
DTEND;VALUE=DATE:20250824
DTSTAMP:20260420T151418
CREATED:20250716T160828Z
LAST-MODIFIED:20250716T160828Z
UID:6043-1755907200-1755993599@www.djcharlie.org
SUMMARY:Viana do Castelo (Portugal\, 18h)
DESCRIPTION:
URL:https://www.djcharlie.org/event/viana-do-castelo-portugal-18h/
END:VEVENT
END:VCALENDAR