BEGIN:VCALENDAR
VERSION:2.0
PRODID:-//DJ Charlie - ECPv6.15.20//NONSGML v1.0//EN
CALSCALE:GREGORIAN
METHOD:PUBLISH
X-ORIGINAL-URL:https://www.djcharlie.org
X-WR-CALDESC:Eventos para DJ Charlie
REFRESH-INTERVAL;VALUE=DURATION:PT1H
X-Robots-Tag:noindex
X-PUBLISHED-TTL:PT1H
BEGIN:VTIMEZONE
TZID:UTC
BEGIN:STANDARD
TZOFFSETFROM:+0000
TZOFFSETTO:+0000
TZNAME:UTC
DTSTART:20240101T000000
END:STANDARD
END:VTIMEZONE
BEGIN:VEVENT
DTSTART;VALUE=DATE:20250816
DTEND;VALUE=DATE:20250817
DTSTAMP:20260420T151353
CREATED:20250716T160727Z
LAST-MODIFIED:20250716T160727Z
UID:6039-1755302400-1755388799@www.djcharlie.org
SUMMARY:Casa Benito (Bueu\, Po - 18h)
DESCRIPTION:
URL:https://www.djcharlie.org/event/casa-benito-bueu-po-18h-2/
END:VEVENT
BEGIN:VEVENT
DTSTART;VALUE=DATE:20250816
DTEND;VALUE=DATE:20250817
DTSTAMP:20260420T151353
CREATED:20250803T160300Z
LAST-MODIFIED:20250803T160300Z
UID:6052-1755302400-1755388799@www.djcharlie.org
SUMMARY:Buda (Melide\, A Coruña)
DESCRIPTION:
URL:https://www.djcharlie.org/event/buda-melide-a-coruna-8/
LOCATION:Buda Melide\, Rúa Emilia Pardo Bazán\, 8\, Melide\, A Coruña\, 15800\, España
END:VEVENT
END:VCALENDAR