BEGIN:VCALENDAR
VERSION:2.0
PRODID:-//DJ Charlie - ECPv6.15.20//NONSGML v1.0//EN
CALSCALE:GREGORIAN
METHOD:PUBLISH
X-ORIGINAL-URL:https://www.djcharlie.org
X-WR-CALDESC:Eventos para DJ Charlie
REFRESH-INTERVAL;VALUE=DURATION:PT1H
X-Robots-Tag:noindex
X-PUBLISHED-TTL:PT1H
BEGIN:VTIMEZONE
TZID:UTC
BEGIN:STANDARD
TZOFFSETFROM:+0000
TZOFFSETTO:+0000
TZNAME:UTC
DTSTART:20240101T000000
END:STANDARD
END:VTIMEZONE
BEGIN:VEVENT
DTSTART;VALUE=DATE:20250802
DTEND;VALUE=DATE:20250803
DTSTAMP:20260420T151515
CREATED:20250131T182300Z
LAST-MODIFIED:20250131T182300Z
UID:5936-1754092800-1754179199@www.djcharlie.org
SUMMARY:O Son da muralla (Salvaterra de Miño)
DESCRIPTION:
URL:https://www.djcharlie.org/event/o-son-da-muralla-salvaterra-de-mino-3/
LOCATION:O Son da Muralla\, Rua da Esperanza 13\, Salvaterra de Miño\, Pontevedra\, 36450\, España
END:VEVENT
END:VCALENDAR