BEGIN:VCALENDAR
VERSION:2.0
PRODID:-//DJ Charlie - ECPv6.15.20//NONSGML v1.0//EN
CALSCALE:GREGORIAN
METHOD:PUBLISH
X-ORIGINAL-URL:https://www.djcharlie.org
X-WR-CALDESC:Eventos para DJ Charlie
REFRESH-INTERVAL;VALUE=DURATION:PT1H
X-Robots-Tag:noindex
X-PUBLISHED-TTL:PT1H
BEGIN:VTIMEZONE
TZID:UTC
BEGIN:STANDARD
TZOFFSETFROM:+0000
TZOFFSETTO:+0000
TZNAME:UTC
DTSTART:20240101T000000
END:STANDARD
END:VTIMEZONE
BEGIN:VEVENT
DTSTART;VALUE=DATE:20250726
DTEND;VALUE=DATE:20250727
DTSTAMP:20260420T233956
CREATED:20250618T143040Z
LAST-MODIFIED:20250618T143040Z
UID:6000-1753488000-1753574399@www.djcharlie.org
SUMMARY:Entroido de Verán (A Cañiza\, Po)
DESCRIPTION:
URL:https://www.djcharlie.org/event/entroido-de-veran-a-caniza-po/
END:VEVENT
END:VCALENDAR